Index of /checkResults/3.18/data-experiment-LATEST/faahKO/raw-results

[ICO]NameLast modifiedSizeDescription

[DIR]Parent Directory  -  
[   ]info.dcf29-Mar-2024 03:52 273  
[DIR]nebbiolo2/29-Mar-2024 03:52 -