Index of /checkResults/3.18/data-experiment-LATEST/faahKO/raw-results/nebbiolo2

[ICO]NameLast modifiedSizeDescription

[DIR]Parent Directory  -  
[TXT]buildsrc-out.txt29-Mar-2024 03:52 793  
[   ]buildsrc-summary.dcf29-Mar-2024 03:52 414  
[TXT]checksrc-out.txt29-Mar-2024 03:52 3.7K 
[   ]checksrc-summary.dcf29-Mar-2024 03:52 410  
[TXT]install-out.txt29-Mar-2024 03:52 933  
[   ]install-summary.dcf29-Mar-2024 03:52 257