Back to Build/check report for BioC 3.18 experimental data
ABCDE[F]GHIJKLMNOPQRSTUVWXYZ

This page was generated on 2024-02-29 14:52:01 -0500 (Thu, 29 Feb 2024).

HostnameOSArch (*)R versionInstalled pkgs
nebbiolo2Linux (Ubuntu 22.04.3 LTS)x86_644.3.2 Patched (2023-11-13 r85521) -- "Eye Holes" 4692
Click on any hostname to see more info about the system (e.g. compilers)      (*) as reported by 'uname -p', except on Windows and Mac OS X

Package 119/429HostnameOS / ArchINSTALLBUILDCHECK
faahKO 1.42.0  (landing page)
Steffen Neumann
Snapshot Date: 2024-02-29 07:30:02 -0500 (Thu, 29 Feb 2024)
git_url: https://git.bioconductor.org/packages/faahKO
git_branch: RELEASE_3_18
git_last_commit: 8b35271
git_last_commit_date: 2023-10-24 08:53:37 -0500 (Tue, 24 Oct 2023)
nebbiolo2Linux (Ubuntu 22.04.3 LTS) / x86_64  OK    OK    OK  UNNEEDED, same version is already published

BUILD results for faahKO on nebbiolo2


To the developers/maintainers of the faahKO package:
- Use the following Renviron settings to reproduce errors and warnings.
- If 'R CMD check' started to fail recently on the Linux builder(s) over a missing dependency, add the missing dependency to 'Suggests:' in your DESCRIPTION file. See Renviron.bioc for more information.

raw results


Summary

Package: faahKO
Version: 1.42.0
Command: /home/biocbuild/bbs-3.18-bioc/R/bin/R CMD build --keep-empty-dirs --no-resave-data faahKO
StartedAt: 2024-02-29 10:25:37 -0500 (Thu, 29 Feb 2024)
EndedAt: 2024-02-29 10:26:25 -0500 (Thu, 29 Feb 2024)
EllapsedTime: 47.8 seconds
RetCode: 0
Status:   OK  
PackageFile: faahKO_1.42.0.tar.gz
PackageFileSize: 16.03 MiB

Command output

##############################################################################
##############################################################################
###
### Running command:
###
###   /home/biocbuild/bbs-3.18-bioc/R/bin/R CMD build --keep-empty-dirs --no-resave-data faahKO
###
##############################################################################
##############################################################################


* checking for file ‘faahKO/DESCRIPTION’ ... OK
* preparing ‘faahKO’:
* checking DESCRIPTION meta-information ... OK
* checking for LF line-endings in source and make files and shell scripts
* checking for empty or unneeded directories
* looking to see if a ‘data/datalist’ file should be added
* building ‘faahKO_1.42.0.tar.gz’