Back to Build/check report for BioC 3.18 experimental data
ABCDEFGHIJKL[M]NOPQRSTUVWXYZ

This page was generated on 2024-03-28 14:52:05 -0400 (Thu, 28 Mar 2024).

HostnameOSArch (*)R versionInstalled pkgs
nebbiolo2Linux (Ubuntu 22.04.3 LTS)x86_644.3.3 (2024-02-29) -- "Angel Food Cake" 4669
Click on any hostname to see more info about the system (e.g. compilers)      (*) as reported by 'uname -p', except on Windows and Mac OS X

Package 228/429HostnameOS / ArchINSTALLBUILDCHECK
MEEBOdata 1.40.0  (landing page)
Agnes Paquet
Snapshot Date: 2024-03-28 07:30:02 -0400 (Thu, 28 Mar 2024)
git_url: https://git.bioconductor.org/packages/MEEBOdata
git_branch: RELEASE_3_18
git_last_commit: c102a18
git_last_commit_date: 2023-10-24 08:54:09 -0400 (Tue, 24 Oct 2023)
nebbiolo2Linux (Ubuntu 22.04.3 LTS) / x86_64  OK    OK    WARNINGS  UNNEEDED, same version is already published

CHECK results for MEEBOdata on nebbiolo2


To the developers/maintainers of the MEEBOdata package:
- Use the following Renviron settings to reproduce errors and warnings.
- If 'R CMD check' started to fail recently on the Linux builder(s) over a missing dependency, add the missing dependency to 'Suggests:' in your DESCRIPTION file. See Renviron.bioc for more information.

raw results


Summary

Package: MEEBOdata
Version: 1.40.0
Command: /home/biocbuild/bbs-3.18-bioc/R/bin/R CMD check --install=check:MEEBOdata.install-out.txt --library=/home/biocbuild/bbs-3.18-bioc/R/site-library --timings MEEBOdata_1.40.0.tar.gz
StartedAt: 2024-03-28 11:44:06 -0400 (Thu, 28 Mar 2024)
EndedAt: 2024-03-28 11:44:31 -0400 (Thu, 28 Mar 2024)
EllapsedTime: 24.4 seconds
RetCode: 0
Status:   WARNINGS  
CheckDir: MEEBOdata.Rcheck
Warnings: 1

Command output

##############################################################################
##############################################################################
###
### Running command:
###
###   /home/biocbuild/bbs-3.18-bioc/R/bin/R CMD check --install=check:MEEBOdata.install-out.txt --library=/home/biocbuild/bbs-3.18-bioc/R/site-library --timings MEEBOdata_1.40.0.tar.gz
###
##############################################################################
##############################################################################


* using log directory ‘/home/biocbuild/bbs-3.18-data-experiment/meat/MEEBOdata.Rcheck’
* using R version 4.3.3 (2024-02-29)
* using platform: x86_64-pc-linux-gnu (64-bit)
* R was compiled by
    gcc (Ubuntu 11.4.0-1ubuntu1~22.04) 11.4.0
    GNU Fortran (Ubuntu 11.4.0-1ubuntu1~22.04) 11.4.0
* running under: Ubuntu 22.04.4 LTS
* using session charset: UTF-8
* checking for file ‘MEEBOdata/DESCRIPTION’ ... OK
* checking extension type ... Package
* this is package ‘MEEBOdata’ version ‘1.40.0’
* checking package namespace information ... OK
* checking package dependencies ... OK
* checking if this is a source package ... OK
* checking if there is a namespace ... OK
* checking for hidden files and directories ... OK
* checking for portable file names ... OK
* checking for sufficient/correct file permissions ... OK
* checking whether package ‘MEEBOdata’ can be installed ... OK
* checking installed package size ... NOTE
  installed size is 15.1Mb
  sub-directories of 1Mb or more:
    Meebo  12.2Mb
    data    2.9Mb
* checking package directory ... OK
* checking DESCRIPTION meta-information ... NOTE
Malformed Title field: should not end in a period.
* checking top-level files ... OK
* checking for left-over files ... OK
* checking index information ... OK
* checking package subdirectories ... OK
* checking whether the package can be loaded ... OK
* checking whether the package can be loaded with stated dependencies ... OK
* checking whether the package can be unloaded cleanly ... OK
* checking whether the namespace can be loaded with stated dependencies ... OK
* checking whether the namespace can be unloaded cleanly ... OK
* checking loading without being on the library search path ... OK
* checking Rd files ... NOTE
checkRd: (-1) StanfordExampleData.Rd:7: Escaped LaTeX specials: \_
* checking Rd metadata ... OK
* checking Rd cross-references ... OK
* checking for missing documentation entries ... OK
* checking for code/documentation mismatches ... OK
* checking Rd \usage sections ... OK
* checking Rd contents ... OK
* checking for unstated dependencies in examples ... OK
* checking contents of ‘data’ directory ... OK
* checking data for non-ASCII characters ... OK
* checking data for ASCII and uncompressed saves ... WARNING
  
  Note: significantly better compression could be obtained
        by using R CMD build --resave-data
                old_size new_size compress
  MEEBOctrl.rda     13Kb     10Kb       xz
  MEEBOset.rda     2.9Mb    2.0Mb       xz
* checking examples ... NONE
* checking PDF version of manual ... OK
* DONE

Status: 1 WARNING, 3 NOTEs
See
  ‘/home/biocbuild/bbs-3.18-data-experiment/meat/MEEBOdata.Rcheck/00check.log’
for details.



Installation output

MEEBOdata.Rcheck/00install.out

##############################################################################
##############################################################################
###
### Running command:
###
###   /home/biocbuild/bbs-3.18-bioc/R/bin/R CMD INSTALL MEEBOdata
###
##############################################################################
##############################################################################


* installing to library ‘/home/biocbuild/bbs-3.18-bioc/R/site-library’
* installing *source* package ‘MEEBOdata’ ...
** using staged installation
** data
** inst
** help
*** installing help indices
** building package indices
** testing if installed package can be loaded from temporary location
** testing if installed package can be loaded from final location
** testing if installed package keeps a record of temporary installation path
* DONE (MEEBOdata)

Tests output


Example timings