Name | Last modified | Size | Description | |
---|---|---|---|---|
Parent Directory | - | |||
install-summary.dcf | 17-Apr-2024 03:51 | 265 | ||
install-out.txt | 17-Apr-2024 03:51 | 1.2K | ||
checksrc-summary.dcf | 17-Apr-2024 03:51 | 432 | ||
checksrc-out.txt | 17-Apr-2024 03:51 | 5.5K | ||
buildsrc-summary.dcf | 17-Apr-2024 03:51 | 425 | ||
buildsrc-out.txt | 17-Apr-2024 03:51 | 881 | ||