Index of /checkResults/3.18/data-experiment-LATEST/MAQCsubset/raw-results
Name
Last modified
Size
Description
Parent Directory
-
info.dcf
08-Dec-2023 04:52
279
nebbiolo2/
08-Dec-2023 04:52
-