Back to Build/check report for BioC 3.18 experimental data
ABCDEFG[H]IJKLMNOPQRSTUVWXYZ

This page was generated on 2023-11-28 14:51:59 -0500 (Tue, 28 Nov 2023).

HostnameOSArch (*)R versionInstalled pkgs
nebbiolo2Linux (Ubuntu 22.04.2 LTS)x86_644.3.2 Patched (2023-11-13 r85521) -- "Eye Holes" 4685
Click on any hostname to see more info about the system (e.g. compilers)      (*) as reported by 'uname -p', except on Windows and Mac OS X

Package 190/429HostnameOS / ArchINSTALLBUILDCHECK
HMP2Data 1.16.0  (landing page)
John Stansfield , Ekaterina Smirnova
Snapshot Date: 2023-11-28 07:30:01 -0500 (Tue, 28 Nov 2023)
git_url: https://git.bioconductor.org/packages/HMP2Data
git_branch: RELEASE_3_18
git_last_commit: dcdd7d8
git_last_commit_date: 2023-10-24 09:19:48 -0500 (Tue, 24 Oct 2023)
nebbiolo2Linux (Ubuntu 22.04.2 LTS) / x86_64  OK    OK    OK  UNNEEDED, same version is already published

CHECK results for HMP2Data on nebbiolo2


To the developers/maintainers of the HMP2Data package:
- Use the following Renviron settings to reproduce errors and warnings.
- If 'R CMD check' started to fail recently on the Linux builder(s) over a missing dependency, add the missing dependency to 'Suggests:' in your DESCRIPTION file. See Renviron.bioc for more information.

raw results


Summary

Package: HMP2Data
Version: 1.16.0
Command: /home/biocbuild/bbs-3.18-bioc/R/bin/R CMD check --install=check:HMP2Data.install-out.txt --library=/home/biocbuild/bbs-3.18-bioc/R/site-library --timings HMP2Data_1.16.0.tar.gz
StartedAt: 2023-11-28 11:37:22 -0500 (Tue, 28 Nov 2023)
EndedAt: 2023-11-28 11:42:26 -0500 (Tue, 28 Nov 2023)
EllapsedTime: 303.7 seconds
RetCode: 0
Status:   OK  
CheckDir: HMP2Data.Rcheck
Warnings: 0

Command output

##############################################################################
##############################################################################
###
### Running command:
###
###   /home/biocbuild/bbs-3.18-bioc/R/bin/R CMD check --install=check:HMP2Data.install-out.txt --library=/home/biocbuild/bbs-3.18-bioc/R/site-library --timings HMP2Data_1.16.0.tar.gz
###
##############################################################################
##############################################################################


* using log directory ‘/home/biocbuild/bbs-3.18-data-experiment/meat/HMP2Data.Rcheck’
* using R version 4.3.2 Patched (2023-11-13 r85521)
* using platform: x86_64-pc-linux-gnu (64-bit)
* R was compiled by
    gcc (Ubuntu 11.4.0-1ubuntu1~22.04) 11.4.0
    GNU Fortran (Ubuntu 11.4.0-1ubuntu1~22.04) 11.4.0
* running under: Ubuntu 22.04.3 LTS
* using session charset: UTF-8
* checking for file ‘HMP2Data/DESCRIPTION’ ... OK
* this is package ‘HMP2Data’ version ‘1.16.0’
* package encoding: UTF-8
* checking package namespace information ... OK
* checking package dependencies ... OK
* checking if this is a source package ... OK
* checking if there is a namespace ... OK
* checking for hidden files and directories ... OK
* checking for portable file names ... OK
* checking for sufficient/correct file permissions ... OK
* checking whether package ‘HMP2Data’ can be installed ... OK
* checking installed package size ... OK
* checking package directory ... OK
* checking ‘build’ directory ... OK
* checking DESCRIPTION meta-information ... OK
* checking top-level files ... NOTE
File
  LICENSE
is not mentioned in the DESCRIPTION file.
* checking for left-over files ... OK
* checking index information ... OK
* checking package subdirectories ... OK
* checking R files for non-ASCII characters ... OK
* checking R files for syntax errors ... OK
* checking whether the package can be loaded ... OK
* checking whether the package can be loaded with stated dependencies ... OK
* checking whether the package can be unloaded cleanly ... OK
* checking whether the namespace can be loaded with stated dependencies ... OK
* checking whether the namespace can be unloaded cleanly ... OK
* checking loading without being on the library search path ... OK
* checking dependencies in R code ... OK
* checking S3 generic/method consistency ... OK
* checking replacement functions ... OK
* checking foreign function calls ... OK
* checking R code for possible problems ... NOTE
IBD16S: no visible global function definition for ‘data’
IBD16S: no visible binding for global variable ‘IBD16S_mtx’
IBD16S: no visible binding for global variable ‘IBD16S_samp’
IBD16S: no visible binding for global variable ‘IBD16S_tax’
T2D16S: no visible global function definition for ‘data’
T2D16S: no visible binding for global variable ‘T2D16S_mtx’
T2D16S: no visible binding for global variable ‘T2D16S_samp’
T2D16S: no visible binding for global variable ‘T2D16S_tax’
momspi16S: no visible global function definition for ‘data’
momspi16S: no visible binding for global variable ‘momspi16S_mtx’
momspi16S: no visible binding for global variable ‘momspi16S_samp’
momspi16S: no visible binding for global variable ‘momspi16S_tax’
momspiCytokines: no visible global function definition for ‘data’
momspiCytokines: no visible binding for global variable
  ‘momspiCyto_mtx’
momspiCytokines: no visible binding for global variable
  ‘momspiCyto_samp’
momspiMultiAssay: no visible global function definition for ‘data’
momspiMultiAssay: no visible binding for global variable ‘file_name’
momspiMultiAssay: no visible binding for global variable
  ‘momspi16S_mtx’
momspiMultiAssay: no visible binding for global variable
  ‘momspiCyto_mtx’
patient_table: no visible binding for global variable ‘.’
table_two: no visible binding for global variable ‘.’
visit_table : <anonymous>: no visible global function definition for
  ‘quantile’
visit_table: no visible binding for global variable ‘.’
Undefined global functions or variables:
  . IBD16S_mtx IBD16S_samp IBD16S_tax T2D16S_mtx T2D16S_samp T2D16S_tax
  data file_name momspi16S_mtx momspi16S_samp momspi16S_tax
  momspiCyto_mtx momspiCyto_samp quantile
Consider adding
  importFrom("stats", "quantile")
  importFrom("utils", "data")
to your NAMESPACE file.
* checking Rd files ... OK
* checking Rd metadata ... OK
* checking Rd cross-references ... OK
* checking for missing documentation entries ... OK
* checking for code/documentation mismatches ... OK
* checking Rd \usage sections ... OK
* checking Rd contents ... OK
* checking for unstated dependencies in examples ... OK
* checking contents of ‘data’ directory ... OK
* checking data for non-ASCII characters ... OK
* checking data for ASCII and uncompressed saves ... OK
* checking files in ‘vignettes’ ... OK
* checking examples ... OK
* checking for unstated dependencies in ‘tests’ ... OK
* checking tests ...
  Running ‘testthat.R’
 OK
* checking for unstated dependencies in vignettes ... OK
* checking package vignettes in ‘inst/doc’ ... OK
* checking running R code from vignettes ...
  ‘hmp2data.Rmd’ using ‘UTF-8’... OK
 NONE
* checking re-building of vignette outputs ... OK
* checking PDF version of manual ... OK
* DONE

Status: 2 NOTEs
See
  ‘/home/biocbuild/bbs-3.18-data-experiment/meat/HMP2Data.Rcheck/00check.log’
for details.



Installation output

HMP2Data.Rcheck/00install.out

##############################################################################
##############################################################################
###
### Running command:
###
###   /home/biocbuild/bbs-3.18-bioc/R/bin/R CMD INSTALL HMP2Data
###
##############################################################################
##############################################################################


* installing to library ‘/home/biocbuild/bbs-3.18-bioc/R/site-library’
* installing *source* package ‘HMP2Data’ ...
** using staged installation
** R
** data
** byte-compile and prepare package for lazy loading
** help
*** installing help indices
** building package indices
** installing vignettes
** testing if installed package can be loaded from temporary location
** testing if installed package can be loaded from final location
** testing if installed package keeps a record of temporary installation path
* DONE (HMP2Data)

Tests output

HMP2Data.Rcheck/tests/testthat.Rout


R version 4.3.2 Patched (2023-11-13 r85521) -- "Eye Holes"
Copyright (C) 2023 The R Foundation for Statistical Computing
Platform: x86_64-pc-linux-gnu (64-bit)

R is free software and comes with ABSOLUTELY NO WARRANTY.
You are welcome to redistribute it under certain conditions.
Type 'license()' or 'licence()' for distribution details.

R is a collaborative project with many contributors.
Type 'contributors()' for more information and
'citation()' on how to cite R or R packages in publications.

Type 'demo()' for some demos, 'help()' for on-line help, or
'help.start()' for an HTML browser interface to help.
Type 'q()' to quit R.

> library(testthat)
> library(HMP2Data)
> 
> test_check("HMP2Data")
[ FAIL 0 | WARN 1 | SKIP 0 | PASS 5 ]

[ FAIL 0 | WARN 1 | SKIP 0 | PASS 5 ]
> 
> proc.time()
   user  system elapsed 
 17.182   1.624  18.795 

Example timings

HMP2Data.Rcheck/HMP2Data-Ex.timings

nameusersystemelapsed
IBD16S0.0950.0000.095
T2D16S1.4320.1281.559
momspi16S2.1940.2522.446
momspiCytokines0.0480.0080.056
momspiMultiAssay2.4990.3242.824
patient_table3.1280.5563.684
table_two2.9270.4963.423
visit_table2.9740.4763.450