Back to Build/check report for BioC 3.18 experimental data
AB[C]DEFGHIJKLMNOPQRSTUVWXYZ

This page was generated on 2024-03-28 14:52:05 -0400 (Thu, 28 Mar 2024).

HostnameOSArch (*)R versionInstalled pkgs
nebbiolo2Linux (Ubuntu 22.04.3 LTS)x86_644.3.3 (2024-02-29) -- "Angel Food Cake" 4669
Click on any hostname to see more info about the system (e.g. compilers)      (*) as reported by 'uname -p', except on Windows and Mac OS X

Package 70/429HostnameOS / ArchINSTALLBUILDCHECK
ConnectivityMap 1.38.0  (landing page)
Paul Shannon
Snapshot Date: 2024-03-28 07:30:02 -0400 (Thu, 28 Mar 2024)
git_url: https://git.bioconductor.org/packages/ConnectivityMap
git_branch: RELEASE_3_18
git_last_commit: 4b7ff6f
git_last_commit_date: 2023-10-24 09:05:08 -0400 (Tue, 24 Oct 2023)
nebbiolo2Linux (Ubuntu 22.04.3 LTS) / x86_64  OK    OK    OK  UNNEEDED, same version is already published

CHECK results for ConnectivityMap on nebbiolo2


To the developers/maintainers of the ConnectivityMap package:
- Use the following Renviron settings to reproduce errors and warnings.
- If 'R CMD check' started to fail recently on the Linux builder(s) over a missing dependency, add the missing dependency to 'Suggests:' in your DESCRIPTION file. See Renviron.bioc for more information.

raw results


Summary

Package: ConnectivityMap
Version: 1.38.0
Command: /home/biocbuild/bbs-3.18-bioc/R/bin/R CMD check --install=check:ConnectivityMap.install-out.txt --library=/home/biocbuild/bbs-3.18-bioc/R/site-library --timings ConnectivityMap_1.38.0.tar.gz
StartedAt: 2024-03-28 11:13:40 -0400 (Thu, 28 Mar 2024)
EndedAt: 2024-03-28 11:16:22 -0400 (Thu, 28 Mar 2024)
EllapsedTime: 162.5 seconds
RetCode: 0
Status:   OK  
CheckDir: ConnectivityMap.Rcheck
Warnings: 0

Command output

##############################################################################
##############################################################################
###
### Running command:
###
###   /home/biocbuild/bbs-3.18-bioc/R/bin/R CMD check --install=check:ConnectivityMap.install-out.txt --library=/home/biocbuild/bbs-3.18-bioc/R/site-library --timings ConnectivityMap_1.38.0.tar.gz
###
##############################################################################
##############################################################################


* using log directory ‘/home/biocbuild/bbs-3.18-data-experiment/meat/ConnectivityMap.Rcheck’
* using R version 4.3.3 (2024-02-29)
* using platform: x86_64-pc-linux-gnu (64-bit)
* R was compiled by
    gcc (Ubuntu 11.4.0-1ubuntu1~22.04) 11.4.0
    GNU Fortran (Ubuntu 11.4.0-1ubuntu1~22.04) 11.4.0
* running under: Ubuntu 22.04.4 LTS
* using session charset: UTF-8
* checking for file ‘ConnectivityMap/DESCRIPTION’ ... OK
* checking extension type ... Package
* this is package ‘ConnectivityMap’ version ‘1.38.0’
* checking package namespace information ... OK
* checking package dependencies ... OK
* checking if this is a source package ... OK
* checking if there is a namespace ... OK
* checking for hidden files and directories ... OK
* checking for portable file names ... OK
* checking for sufficient/correct file permissions ... OK
* checking whether package ‘ConnectivityMap’ can be installed ... OK
* checking installed package size ... NOTE
  installed size is 236.8Mb
  sub-directories of 1Mb or more:
    data  236.7Mb
* checking package directory ... OK
* checking DESCRIPTION meta-information ... OK
* checking top-level files ... OK
* checking for left-over files ... OK
* checking index information ... OK
* checking package subdirectories ... OK
* checking whether the package can be loaded ... OK
* checking whether the package can be loaded with stated dependencies ... OK
* checking whether the package can be unloaded cleanly ... OK
* checking whether the namespace can be loaded with stated dependencies ... OK
* checking whether the namespace can be unloaded cleanly ... OK
* checking loading without being on the library search path ... OK
* checking Rd files ... OK
* checking Rd metadata ... OK
* checking Rd cross-references ... OK
* checking for missing documentation entries ... OK
* checking for code/documentation mismatches ... OK
* checking Rd \usage sections ... OK
* checking Rd contents ... OK
* checking for unstated dependencies in examples ... OK
* checking contents of ‘data’ directory ... OK
* checking data for non-ASCII characters ... OK
* checking data for ASCII and uncompressed saves ... OK
* checking examples ... OK
Examples with CPU (user + system) or elapsed time > 5s
                  user system elapsed
ConnectivityMap 28.698  0.365  29.063
* checking for unstated dependencies in ‘tests’ ... OK
* checking tests ...
  Running ‘runTests.R’
 OK
* checking PDF version of manual ... OK
* DONE

Status: 1 NOTE
See
  ‘/home/biocbuild/bbs-3.18-data-experiment/meat/ConnectivityMap.Rcheck/00check.log’
for details.



Installation output

ConnectivityMap.Rcheck/00install.out

##############################################################################
##############################################################################
###
### Running command:
###
###   /home/biocbuild/bbs-3.18-bioc/R/bin/R CMD INSTALL ConnectivityMap
###
##############################################################################
##############################################################################


* installing to library ‘/home/biocbuild/bbs-3.18-bioc/R/site-library’
* installing *source* package ‘ConnectivityMap’ ...
** using staged installation
** data
** inst
** help
*** installing help indices
** building package indices
** testing if installed package can be loaded from temporary location
** testing if installed package can be loaded from final location
** testing if installed package keeps a record of temporary installation path
* DONE (ConnectivityMap)

Tests output

ConnectivityMap.Rcheck/tests/runTests.Rout


R version 4.3.3 (2024-02-29) -- "Angel Food Cake"
Copyright (C) 2024 The R Foundation for Statistical Computing
Platform: x86_64-pc-linux-gnu (64-bit)

R is free software and comes with ABSOLUTELY NO WARRANTY.
You are welcome to redistribute it under certain conditions.
Type 'license()' or 'licence()' for distribution details.

R is a collaborative project with many contributors.
Type 'contributors()' for more information and
'citation()' on how to cite R or R packages in publications.

Type 'demo()' for some demos, 'help()' for on-line help, or
'help.start()' for an HTML browser interface to help.
Type 'q()' to quit R.

> require(ConnectivityMap) || stop("unable to load ConnectivityMap")
Loading required package: ConnectivityMap
[1] TRUE
> BiocGenerics:::testPackage('ConnectivityMap')
[1] "--- test_instances"
[1] "--- test_rankMatrix"


RUNIT TEST PROTOCOL -- Thu Mar 28 11:16:19 2024 
*********************************************** 
Number of test functions: 2 
Number of errors: 0 
Number of failures: 0 

 
1 Test Suite : 
ConnectivityMap RUnit Tests - 2 test functions, 0 errors, 0 failures
Number of test functions: 2 
Number of errors: 0 
Number of failures: 0 
> 
> proc.time()
   user  system elapsed 
 55.971   0.858  56.819 

Example timings

ConnectivityMap.Rcheck/ConnectivityMap-Ex.timings

nameusersystemelapsed
ConnectivityMap28.698 0.36529.063