Back to Mac ARM64 build report for BioC 3.18
ABCDEFGHIJKLMNOPQRS[T]UVWXYZ

This page was generated on 2024-03-28 11:32:34 -0400 (Thu, 28 Mar 2024).

HostnameOSArch (*)R versionInstalled pkgs
kjohnson1macOS 13.6.1 Venturaarm644.3.3 (2024-02-29) -- "Angel Food Cake" 4376
Click on any hostname to see more info about the system (e.g. compilers)      (*) as reported by 'uname -p', except on Windows and Mac OS X

Package 2130/2266HostnameOS / ArchINSTALLBUILDCHECKBUILD BIN
tidySummarizedExperiment 1.12.0  (landing page)
Stefano Mangiola
Snapshot Date: 2024-03-26 09:00:03 -0400 (Tue, 26 Mar 2024)
git_url: https://git.bioconductor.org/packages/tidySummarizedExperiment
git_branch: RELEASE_3_18
git_last_commit: b3e0e32
git_last_commit_date: 2023-10-24 11:27:37 -0400 (Tue, 24 Oct 2023)
kjohnson1macOS 13.6.1 Ventura / arm64  OK    OK    OK    OK  UNNEEDED, same version is already published

BUILD BIN results for tidySummarizedExperiment on kjohnson1


To the developers/maintainers of the tidySummarizedExperiment package:
- Use the following Renviron settings to reproduce errors and warnings.
- If 'R CMD check' started to fail recently on the Linux builder(s) over a missing dependency, add the missing dependency to 'Suggests:' in your DESCRIPTION file. See Renviron.bioc for more information.

raw results


Summary

Package: tidySummarizedExperiment
Version: 1.12.0
Command: rm -rf tidySummarizedExperiment.buildbin-libdir && mkdir tidySummarizedExperiment.buildbin-libdir && /Users/biocbuild/BBS/utils/build-universal.sh tidySummarizedExperiment_1.12.0.tar.gz /Library/Frameworks/R.framework/Resources/bin/R tidySummarizedExperiment.buildbin-libdir
StartedAt: 2024-03-28 10:18:33 -0400 (Thu, 28 Mar 2024)
EndedAt: 2024-03-28 10:19:12 -0400 (Thu, 28 Mar 2024)
EllapsedTime: 39.6 seconds
RetCode: 0
Status:   OK  
PackageFile: tidySummarizedExperiment_1.12.0.tgz
PackageFileSize: 654.7 KiB

Command output

##############################################################################
##############################################################################
###
### Running command:
###
###   rm -rf tidySummarizedExperiment.buildbin-libdir && mkdir tidySummarizedExperiment.buildbin-libdir && /Users/biocbuild/BBS/utils/build-universal.sh tidySummarizedExperiment_1.12.0.tar.gz /Library/Frameworks/R.framework/Resources/bin/R tidySummarizedExperiment.buildbin-libdir
###
##############################################################################
##############################################################################


>>>>>>> 
>>>>>>> INSTALLATION WITH 'R CMD INSTALL --preclean --no-multiarch --library=tidySummarizedExperiment.buildbin-libdir tidySummarizedExperiment_1.12.0.tar.gz'
>>>>>>> 

* installing *source* package ‘tidySummarizedExperiment’ ...
** using staged installation
** R
** data
*** moving datasets to lazyload DB
** inst
** byte-compile and prepare package for lazy loading
Note: wrong number of arguments to '>' 
** help
*** installing help indices
*** copying figures
** building package indices
** installing vignettes
** testing if installed package can be loaded from temporary location
** testing if installed package can be loaded from final location
** testing if installed package keeps a record of temporary installation path
* DONE (tidySummarizedExperiment)