Back to Mac ARM64 build report for BioC 3.18 |
|
This page was generated on 2024-03-28 11:32:27 -0400 (Thu, 28 Mar 2024).
Hostname | OS | Arch (*) | R version | Installed pkgs |
---|---|---|---|---|
kjohnson1 | macOS 13.6.1 Ventura | arm64 | 4.3.3 (2024-02-29) -- "Angel Food Cake" | 4376 |
Click on any hostname to see more info about the system (e.g. compilers) (*) as reported by 'uname -p', except on Windows and Mac OS X |
Package 1535/2266 | Hostname | OS / Arch | INSTALL | BUILD | CHECK | BUILD BIN | ||||||||
phemd 1.18.0 (landing page) William S Chen
| kjohnson1 | macOS 13.6.1 Ventura / arm64 | ERROR | ERROR | skipped | skipped | ||||||||
To the developers/maintainers of the phemd package: - Use the following Renviron settings to reproduce errors and warnings. - If 'R CMD check' started to fail recently on the Linux builder(s) over a missing dependency, add the missing dependency to 'Suggests:' in your DESCRIPTION file. See Renviron.bioc for more information. |
Package: phemd |
Version: 1.18.0 |
Command: /Library/Frameworks/R.framework/Resources/bin/R CMD build --keep-empty-dirs --no-resave-data phemd |
StartedAt: 2024-03-26 23:28:43 -0400 (Tue, 26 Mar 2024) |
EndedAt: 2024-03-26 23:28:44 -0400 (Tue, 26 Mar 2024) |
EllapsedTime: 1.2 seconds |
RetCode: 1 |
Status: ERROR |
PackageFile: None |
PackageFileSize: NA |
############################################################################## ############################################################################## ### ### Running command: ### ### /Library/Frameworks/R.framework/Resources/bin/R CMD build --keep-empty-dirs --no-resave-data phemd ### ############################################################################## ############################################################################## * checking for file ‘phemd/DESCRIPTION’ ... OK * preparing ‘phemd’: * checking DESCRIPTION meta-information ... OK * installing the package to build vignettes ----------------------------------- ERROR: dependency ‘monocle’ is not available for package ‘phemd’ * removing ‘/private/tmp/RtmpkCDbtH/Rinst147995b2fe2d1/phemd’ ----------------------------------- ERROR: package installation failed