Back to Mac ARM64 build report for BioC 3.18
[A]BCDEFGHIJKLMNOPQRSTUVWXYZ

This page was generated on 2024-03-28 11:32:16 -0400 (Thu, 28 Mar 2024).

HostnameOSArch (*)R versionInstalled pkgs
kjohnson1macOS 13.6.1 Venturaarm644.3.3 (2024-02-29) -- "Angel Food Cake" 4376
Click on any hostname to see more info about the system (e.g. compilers)      (*) as reported by 'uname -p', except on Windows and Mac OS X

Package 87/2266HostnameOS / ArchINSTALLBUILDCHECKBUILD BIN
appreci8R 1.20.2  (landing page)
Sarah Sandmann
Snapshot Date: 2024-03-26 09:00:03 -0400 (Tue, 26 Mar 2024)
git_url: https://git.bioconductor.org/packages/appreci8R
git_branch: RELEASE_3_18
git_last_commit: 491a34d
git_last_commit_date: 2024-02-14 07:29:50 -0400 (Wed, 14 Feb 2024)
kjohnson1macOS 13.6.1 Ventura / arm64  OK    OK    OK    OK  UNNEEDED, same version is already published

INSTALL results for appreci8R on kjohnson1


To the developers/maintainers of the appreci8R package:
- Use the following Renviron settings to reproduce errors and warnings.
- If 'R CMD check' started to fail recently on the Linux builder(s) over a missing dependency, add the missing dependency to 'Suggests:' in your DESCRIPTION file. See Renviron.bioc for more information.

raw results


Summary

Package: appreci8R
Version: 1.20.2
Command: /Library/Frameworks/R.framework/Resources/bin/R CMD INSTALL appreci8R
StartedAt: 2024-03-26 13:04:44 -0400 (Tue, 26 Mar 2024)
EndedAt: 2024-03-26 13:06:24 -0400 (Tue, 26 Mar 2024)
EllapsedTime: 99.9 seconds
RetCode: 0
Status:   OK  

Command output

##############################################################################
##############################################################################
###
### Running command:
###
###   /Library/Frameworks/R.framework/Resources/bin/R CMD INSTALL appreci8R
###
##############################################################################
##############################################################################


* installing to library ‘/Library/Frameworks/R.framework/Versions/4.3-arm64/Resources/library’
* installing *source* package ‘appreci8R’ ...
** using staged installation
** R
** inst
** byte-compile and prepare package for lazy loading
Warning: replacing previous import ‘utils::findMatches’ by ‘S4Vectors::findMatches’ when loading ‘SNPlocs.Hsapiens.dbSNP144.GRCh37’
Warning: replacing previous import ‘utils::findMatches’ by ‘S4Vectors::findMatches’ when loading ‘XtraSNPlocs.Hsapiens.dbSNP144.GRCh37’
Warning: replacing previous import ‘utils::findMatches’ by ‘S4Vectors::findMatches’ when loading ‘MafDb.1Kgenomes.phase3.hs37d5’
Warning: replacing previous import ‘utils::findMatches’ by ‘S4Vectors::findMatches’ when loading ‘MafDb.ExAC.r1.0.hs37d5’
Warning: replacing previous import ‘utils::findMatches’ by ‘S4Vectors::findMatches’ when loading ‘MafDb.gnomADex.r2.1.hs37d5’
** help
*** installing help indices
** building package indices
** installing vignettes
** testing if installed package can be loaded from temporary location
Warning: replacing previous import ‘utils::findMatches’ by ‘S4Vectors::findMatches’ when loading ‘SNPlocs.Hsapiens.dbSNP144.GRCh37’
Warning: replacing previous import ‘utils::findMatches’ by ‘S4Vectors::findMatches’ when loading ‘XtraSNPlocs.Hsapiens.dbSNP144.GRCh37’
Warning: replacing previous import ‘utils::findMatches’ by ‘S4Vectors::findMatches’ when loading ‘MafDb.1Kgenomes.phase3.hs37d5’
Warning: replacing previous import ‘utils::findMatches’ by ‘S4Vectors::findMatches’ when loading ‘MafDb.ExAC.r1.0.hs37d5’
Warning: replacing previous import ‘utils::findMatches’ by ‘S4Vectors::findMatches’ when loading ‘MafDb.gnomADex.r2.1.hs37d5’
** testing if installed package can be loaded from final location
Warning: replacing previous import ‘utils::findMatches’ by ‘S4Vectors::findMatches’ when loading ‘SNPlocs.Hsapiens.dbSNP144.GRCh37’
Warning: replacing previous import ‘utils::findMatches’ by ‘S4Vectors::findMatches’ when loading ‘XtraSNPlocs.Hsapiens.dbSNP144.GRCh37’
Warning: replacing previous import ‘utils::findMatches’ by ‘S4Vectors::findMatches’ when loading ‘MafDb.1Kgenomes.phase3.hs37d5’
Warning: replacing previous import ‘utils::findMatches’ by ‘S4Vectors::findMatches’ when loading ‘MafDb.ExAC.r1.0.hs37d5’
Warning: replacing previous import ‘utils::findMatches’ by ‘S4Vectors::findMatches’ when loading ‘MafDb.gnomADex.r2.1.hs37d5’
** testing if installed package keeps a record of temporary installation path
* DONE (appreci8R)