Name | Last modified | Size | Description | |
---|---|---|---|---|
Parent Directory | - | |||
install-summary.dcf | 19-Apr-2024 00:32 | 279 | ||
install-out.txt | 19-Apr-2024 00:32 | 2.3K | ||
checksrc-summary.dcf | 08-Mar-2024 04:39 | 464 | ||
checksrc-out.txt | 08-Mar-2024 04:39 | 3.6K | ||
buildsrc-summary.dcf | 19-Apr-2024 00:32 | 353 | ||
buildsrc-out.txt | 19-Apr-2024 00:32 | 1.2K | ||
buildbin-summary.dcf | 08-Mar-2024 04:39 | 560 | ||
buildbin-out.txt | 08-Mar-2024 04:39 | 4.5K | ||