Back to Mac ARM64 build report for BioC 3.18 |
|
This page was generated on 2024-03-28 11:32:17 -0400 (Thu, 28 Mar 2024).
Hostname | OS | Arch (*) | R version | Installed pkgs |
---|---|---|---|---|
kjohnson1 | macOS 13.6.1 Ventura | arm64 | 4.3.3 (2024-02-29) -- "Angel Food Cake" | 4376 |
Click on any hostname to see more info about the system (e.g. compilers) (*) as reported by 'uname -p', except on Windows and Mac OS X |
Package 183/2266 | Hostname | OS / Arch | INSTALL | BUILD | CHECK | BUILD BIN | ||||||||
BiocOncoTK 1.22.0 (landing page) VJ Carey
| kjohnson1 | macOS 13.6.1 Ventura / arm64 | ERROR | ERROR | skipped | skipped | ||||||||
To the developers/maintainers of the BiocOncoTK package: - Use the following Renviron settings to reproduce errors and warnings. - If 'R CMD check' started to fail recently on the Linux builder(s) over a missing dependency, add the missing dependency to 'Suggests:' in your DESCRIPTION file. See Renviron.bioc for more information. |
Package: BiocOncoTK |
Version: 1.22.0 |
Command: /Library/Frameworks/R.framework/Resources/bin/R CMD build --keep-empty-dirs --no-resave-data BiocOncoTK |
StartedAt: 2024-03-26 14:13:54 -0400 (Tue, 26 Mar 2024) |
EndedAt: 2024-03-26 14:14:23 -0400 (Tue, 26 Mar 2024) |
EllapsedTime: 29.7 seconds |
RetCode: 1 |
Status: ERROR |
PackageFile: None |
PackageFileSize: NA |
############################################################################## ############################################################################## ### ### Running command: ### ### /Library/Frameworks/R.framework/Resources/bin/R CMD build --keep-empty-dirs --no-resave-data BiocOncoTK ### ############################################################################## ############################################################################## * checking for file ‘BiocOncoTK/DESCRIPTION’ ... OK * preparing ‘BiocOncoTK’: * checking DESCRIPTION meta-information ... OK * installing the package to build vignettes ----------------------------------- * installing *source* package ‘BiocOncoTK’ ... ** using staged installation ** R ** data *** moving datasets to lazyload DB ** inst ** byte-compile and prepare package for lazy loading Error: object ‘query_exec’ is not exported by 'namespace:bigrquery' Execution halted ERROR: lazy loading failed for package ‘BiocOncoTK’ * removing ‘/private/tmp/RtmplZ1Kju/Rinst9fa15662b958/BiocOncoTK’ ----------------------------------- ERROR: package installation failed