Name | Last modified | Size | Description | |
---|---|---|---|---|
Parent Directory | - | |||
install-summary.dcf | 18-Apr-2024 00:37 | 261 | ||
install-out.txt | 18-Apr-2024 00:37 | 238K | ||
checksrc-summary.dcf | 18-Apr-2024 00:37 | 437 | ||
checksrc-out.txt | 18-Apr-2024 00:37 | 12K | ||
buildsrc-summary.dcf | 18-Apr-2024 00:37 | 437 | ||
buildsrc-out.txt | 18-Apr-2024 00:37 | 1.3K | ||
buildbin-summary.dcf | 18-Apr-2024 00:37 | 491 | ||
buildbin-out.txt | 18-Apr-2024 00:37 | 239K | ||