Index of /checkResults/3.18/bioc-LATEST/msa/raw-results

[ICO]NameLast modifiedSizeDescription

[DIR]Parent Directory  -  
[   ]info.dcf21-Feb-2024 01:38 816  
[DIR]kunpeng2/03-Nov-2023 00:40 -  
[DIR]lconway/21-Feb-2024 01:38 -  
[DIR]nebbiolo2/21-Feb-2024 01:36 -  
[DIR]palomino4/21-Feb-2024 01:37 -