Index of /checkResults/3.18/bioc-LATEST/iChip/raw-results

[ICO]NameLast modifiedSizeDescription

[DIR]Parent Directory  -  
[   ]info.dcf23-Feb-2024 01:37 807  
[DIR]kunpeng2/03-Nov-2023 00:40 -  
[DIR]lconway/23-Feb-2024 01:37 -  
[DIR]nebbiolo2/23-Feb-2024 01:36 -  
[DIR]palomino4/23-Feb-2024 01:36 -