Index of /checkResults/3.18/bioc-LATEST/iChip/raw-results/palomino4

[ICO]NameLast modifiedSizeDescription

[DIR]Parent Directory  -  
[TXT]buildbin-out.txt03-Mar-2024 01:36 2.1K 
[   ]buildbin-summary.dcf03-Mar-2024 01:36 503  
[TXT]buildsrc-out.txt03-Mar-2024 01:36 1.1K 
[   ]buildsrc-summary.dcf03-Mar-2024 01:36 444  
[TXT]checksrc-out.txt03-Mar-2024 01:36 3.8K 
[   ]checksrc-summary.dcf03-Mar-2024 01:36 444  
[TXT]install-out.txt03-Mar-2024 01:36 2.0K 
[   ]install-summary.dcf03-Mar-2024 01:36 263