Name | Last modified | Size | Description | |
---|---|---|---|---|
Parent Directory | - | |||
buildsrc-out.txt | 18-Apr-2024 00:35 | 849 | ||
buildsrc-summary.dcf | 18-Apr-2024 00:35 | 419 | ||
checksrc-out.txt | 18-Apr-2024 00:35 | 3.5K | ||
checksrc-summary.dcf | 18-Apr-2024 00:35 | 416 | ||
install-out.txt | 18-Apr-2024 00:35 | 1.0K | ||
install-summary.dcf | 18-Apr-2024 00:35 | 260 | ||