Name | Last modified | Size | Description | |
---|---|---|---|---|
Parent Directory | - | |||
buildbin-out.txt | 18-Apr-2024 00:37 | 1.2K | ||
buildbin-summary.dcf | 18-Apr-2024 00:37 | 533 | ||
checksrc-summary.dcf | 18-Apr-2024 00:37 | 446 | ||
checksrc-out.txt | 18-Apr-2024 00:37 | 3.4K | ||
buildsrc-summary.dcf | 18-Apr-2024 00:37 | 429 | ||
buildsrc-out.txt | 18-Apr-2024 00:37 | 859 | ||
install-summary.dcf | 18-Apr-2024 00:37 | 270 | ||
install-out.txt | 18-Apr-2024 00:37 | 1.0K | ||