Name | Last modified | Size | Description | |
---|---|---|---|---|
Parent Directory | - | |||
install-summary.dcf | 03-Nov-2023 00:41 | 252 | ||
buildsrc-summary.dcf | 03-Nov-2023 00:41 | 326 | ||
checksrc-summary.dcf | 14-Oct-2023 00:40 | 405 | ||
buildsrc-out.txt | 03-Nov-2023 00:41 | 695 | ||
install-out.txt | 03-Nov-2023 00:41 | 948 | ||
checksrc-out.txt | 14-Oct-2023 00:40 | 5.4K | ||