Index of /checkResults/3.18/bioc-LATEST/ReactomeGSA/raw-results/kunpeng2
Name
Last modified
Size
Description
Parent Directory
-
install-summary.dcf
03-Nov-2023 00:41
260
install-out.txt
03-Nov-2023 00:41
1.6K
buildsrc-summary.dcf
03-Nov-2023 00:41
335
buildsrc-out.txt
03-Nov-2023 00:41
1.4K