Name | Last modified | Size | Description | |
---|---|---|---|---|
Parent Directory | - | |||
checksrc-out.txt | 18-Apr-2024 00:37 | 12K | ||
buildbin-out.txt | 18-Apr-2024 00:37 | 1.2K | ||
install-out.txt | 18-Apr-2024 00:37 | 1.0K | ||
buildsrc-out.txt | 18-Apr-2024 00:37 | 899 | ||
buildbin-summary.dcf | 18-Apr-2024 00:37 | 560 | ||
checksrc-summary.dcf | 18-Apr-2024 00:37 | 470 | ||
buildsrc-summary.dcf | 18-Apr-2024 00:37 | 443 | ||
install-summary.dcf | 18-Apr-2024 00:37 | 279 | ||