Index of /checkResults/3.18/bioc-LATEST/HPAStainR/raw-results/lconway
Name
Last modified
Size
Description
Parent Directory
-
buildsrc-out.txt
05-Mar-2024 01:37
1.4K
install-out.txt
05-Mar-2024 01:37
1.1K
buildsrc-summary.dcf
05-Mar-2024 01:37
347
install-summary.dcf
05-Mar-2024 01:37
272