Index of /checkResults/3.18/bioc-LATEST/EWCE/raw-results/palomino4

[ICO]NameLast modifiedSizeDescription

[DIR]Parent Directory  -  
[TXT]buildbin-out.txt01-Mar-2024 01:36 1.0K 
[   ]buildbin-summary.dcf01-Mar-2024 01:36 497  
[TXT]buildsrc-out.txt01-Mar-2024 01:36 873  
[   ]buildsrc-summary.dcf01-Mar-2024 01:36 441  
[TXT]checksrc-out.txt01-Mar-2024 01:36 4.2K 
[   ]checksrc-summary.dcf01-Mar-2024 01:36 435  
[TXT]install-out.txt01-Mar-2024 01:36 953  
[   ]install-summary.dcf01-Mar-2024 01:36 262