Index of /checkResults/3.18/bioc-LATEST/EWCE/raw-results/nebbiolo2

[ICO]NameLast modifiedSizeDescription

[DIR]Parent Directory  -  
[TXT]buildsrc-out.txt01-Mar-2024 01:35 846  
[   ]buildsrc-summary.dcf01-Mar-2024 01:35 409  
[TXT]checksrc-out.txt01-Mar-2024 01:35 4.5K 
[   ]checksrc-summary.dcf01-Mar-2024 01:35 403  
[TXT]install-out.txt01-Mar-2024 01:35 943  
[   ]install-summary.dcf01-Mar-2024 01:35 253