Index of /checkResults/3.18/bioc-LATEST/DMRcate/raw-results/palomino4

[ICO]NameLast modifiedSizeDescription

[DIR]Parent Directory  -  
[TXT]buildbin-out.txt02-Mar-2024 01:36 1.1K 
[   ]buildbin-summary.dcf02-Mar-2024 01:36 515  
[TXT]buildsrc-out.txt02-Mar-2024 01:36 839  
[   ]buildsrc-summary.dcf02-Mar-2024 01:36 453  
[TXT]checksrc-out.txt02-Mar-2024 01:36 4.6K 
[   ]checksrc-summary.dcf02-Mar-2024 01:36 448  
[TXT]install-out.txt02-Mar-2024 01:36 962  
[   ]install-summary.dcf02-Mar-2024 01:36 268