Index of /checkResults/3.18/bioc-LATEST/DMRcate/raw-results
Name
Last modified
Size
Description
Parent Directory
-
info.dcf
03-Dec-2023 01:37
271
kunpeng2/
03-Nov-2023 00:40
-
lconway/
03-Dec-2023 01:37
-
nebbiolo2/
03-Dec-2023 01:35
-
palomino4/
03-Dec-2023 01:36
-