Back to Build/check report for BioC 3.17 experimental data
ABCDEFGHIJKL[M]NOPQRSTUVWXYZ

This page was generated on 2023-09-26 14:51:32 -0400 (Tue, 26 Sep 2023).

HostnameOSArch (*)R versionInstalled pkgs
nebbiolo1Linux (Ubuntu 22.04.2 LTS)x86_644.3.1 (2023-06-16) -- "Beagle Scouts" 4625
Click on any hostname to see more info about the system (e.g. compilers)      (*) as reported by 'uname -p', except on Windows and Mac OS X

Package 248/421HostnameOS / ArchINSTALLBUILDCHECK
mouse4302barcodevecs 1.38.0  (landing page)
Matthew N. McCall
Snapshot Date: 2023-09-26 07:30:03 -0400 (Tue, 26 Sep 2023)
git_url: https://git.bioconductor.org/packages/mouse4302barcodevecs
git_branch: RELEASE_3_17
git_last_commit: fac7a29
git_last_commit_date: 2023-04-25 09:52:14 -0400 (Tue, 25 Apr 2023)
nebbiolo1Linux (Ubuntu 22.04.2 LTS) / x86_64  OK    OK    OK  UNNEEDED, same version is already published

CHECK results for mouse4302barcodevecs on nebbiolo1


To the developers/maintainers of the mouse4302barcodevecs package:
- Use the following Renviron settings to reproduce errors and warnings.
- If 'R CMD check' started to fail recently on the Linux builder(s) over a missing dependency, add the missing dependency to 'Suggests:' in your DESCRIPTION file. See Renviron.bioc for more information.

raw results


Summary

Package: mouse4302barcodevecs
Version: 1.38.0
Command: /home/biocbuild/bbs-3.17-bioc/R/bin/R CMD check --install=check:mouse4302barcodevecs.install-out.txt --library=/home/biocbuild/bbs-3.17-bioc/R/site-library --timings mouse4302barcodevecs_1.38.0.tar.gz
StartedAt: 2023-09-26 11:44:04 -0400 (Tue, 26 Sep 2023)
EndedAt: 2023-09-26 11:44:14 -0400 (Tue, 26 Sep 2023)
EllapsedTime: 11.0 seconds
RetCode: 0
Status:   OK  
CheckDir: mouse4302barcodevecs.Rcheck
Warnings: 0

Command output

##############################################################################
##############################################################################
###
### Running command:
###
###   /home/biocbuild/bbs-3.17-bioc/R/bin/R CMD check --install=check:mouse4302barcodevecs.install-out.txt --library=/home/biocbuild/bbs-3.17-bioc/R/site-library --timings mouse4302barcodevecs_1.38.0.tar.gz
###
##############################################################################
##############################################################################


* using log directory ‘/home/biocbuild/bbs-3.17-data-experiment/meat/mouse4302barcodevecs.Rcheck’
* using R version 4.3.1 (2023-06-16)
* using platform: x86_64-pc-linux-gnu (64-bit)
* R was compiled by
    gcc (Ubuntu 11.3.0-1ubuntu1~22.04.1) 11.3.0
    GNU Fortran (Ubuntu 11.3.0-1ubuntu1~22.04.1) 11.3.0
* running under: Ubuntu 22.04.3 LTS
* using session charset: UTF-8
* checking for file ‘mouse4302barcodevecs/DESCRIPTION’ ... OK
* this is package ‘mouse4302barcodevecs’ version ‘1.38.0’
* checking package namespace information ... OK
* checking package dependencies ... OK
* checking if this is a source package ... OK
* checking if there is a namespace ... OK
* checking for hidden files and directories ... OK
* checking for portable file names ... OK
* checking for sufficient/correct file permissions ... OK
* checking whether package ‘mouse4302barcodevecs’ can be installed ... OK
* checking installed package size ... OK
* checking package directory ... OK
* checking DESCRIPTION meta-information ... OK
* checking top-level files ... OK
* checking for left-over files ... OK
* checking index information ... OK
* checking package subdirectories ... OK
* checking whether the package can be loaded ... OK
* checking whether the package can be loaded with stated dependencies ... OK
* checking whether the package can be unloaded cleanly ... OK
* checking whether the namespace can be loaded with stated dependencies ... OK
* checking whether the namespace can be unloaded cleanly ... OK
* checking loading without being on the library search path ... OK
* checking Rd files ... OK
* checking Rd metadata ... OK
* checking Rd cross-references ... OK
* checking for missing documentation entries ... OK
* checking for code/documentation mismatches ... OK
* checking Rd \usage sections ... OK
* checking Rd contents ... OK
* checking for unstated dependencies in examples ... OK
* checking contents of ‘data’ directory ... OK
* checking data for non-ASCII characters ... OK
* checking data for ASCII and uncompressed saves ... OK
* checking examples ... NONE
* checking PDF version of manual ... OK
* DONE

Status: OK


Installation output

mouse4302barcodevecs.Rcheck/00install.out

##############################################################################
##############################################################################
###
### Running command:
###
###   /home/biocbuild/bbs-3.17-bioc/R/bin/R CMD INSTALL mouse4302barcodevecs
###
##############################################################################
##############################################################################


* installing to library ‘/home/biocbuild/bbs-3.17-bioc/R/site-library’
* installing *source* package ‘mouse4302barcodevecs’ ...
** using staged installation
** data
** help
*** installing help indices
** building package indices
** testing if installed package can be loaded from temporary location
** testing if installed package can be loaded from final location
** testing if installed package keeps a record of temporary installation path
* DONE (mouse4302barcodevecs)

Tests output


Example timings