Back to Build/check report for BioC 3.17 experimental data |
|
This page was generated on 2023-10-12 14:51:35 -0400 (Thu, 12 Oct 2023).
Hostname | OS | Arch (*) | R version | Installed pkgs |
---|---|---|---|---|
nebbiolo1 | Linux (Ubuntu 22.04.2 LTS) | x86_64 | 4.3.1 (2023-06-16) -- "Beagle Scouts" | 4626 |
Click on any hostname to see more info about the system (e.g. compilers) (*) as reported by 'uname -p', except on Windows and Mac OS X |
Package 28/421 | Hostname | OS / Arch | INSTALL | BUILD | CHECK | ||||||||
BioPlex 1.6.0 (landing page) Ludwig Geistlinger
| nebbiolo1 | Linux (Ubuntu 22.04.2 LTS) / x86_64 | OK | OK | OK | ||||||||
To the developers/maintainers of the BioPlex package: - Use the following Renviron settings to reproduce errors and warnings. - If 'R CMD check' started to fail recently on the Linux builder(s) over a missing dependency, add the missing dependency to 'Suggests:' in your DESCRIPTION file. See Renviron.bioc for more information. |
Package: BioPlex |
Version: 1.6.0 |
Command: /home/biocbuild/bbs-3.17-bioc/R/bin/R CMD check --install=check:BioPlex.install-out.txt --library=/home/biocbuild/bbs-3.17-bioc/R/site-library --timings BioPlex_1.6.0.tar.gz |
StartedAt: 2023-10-12 11:00:02 -0400 (Thu, 12 Oct 2023) |
EndedAt: 2023-10-12 11:06:10 -0400 (Thu, 12 Oct 2023) |
EllapsedTime: 368.3 seconds |
RetCode: 0 |
Status: OK |
CheckDir: BioPlex.Rcheck |
Warnings: 0 |
############################################################################## ############################################################################## ### ### Running command: ### ### /home/biocbuild/bbs-3.17-bioc/R/bin/R CMD check --install=check:BioPlex.install-out.txt --library=/home/biocbuild/bbs-3.17-bioc/R/site-library --timings BioPlex_1.6.0.tar.gz ### ############################################################################## ############################################################################## * using log directory ‘/home/biocbuild/bbs-3.17-data-experiment/meat/BioPlex.Rcheck’ * using R version 4.3.1 (2023-06-16) * using platform: x86_64-pc-linux-gnu (64-bit) * R was compiled by gcc (Ubuntu 11.3.0-1ubuntu1~22.04.1) 11.3.0 GNU Fortran (Ubuntu 11.3.0-1ubuntu1~22.04.1) 11.3.0 * running under: Ubuntu 22.04.3 LTS * using session charset: UTF-8 * checking for file ‘BioPlex/DESCRIPTION’ ... OK * this is package ‘BioPlex’ version ‘1.6.0’ * package encoding: UTF-8 * checking package namespace information ... OK * checking package dependencies ... OK * checking if this is a source package ... OK * checking if there is a namespace ... OK * checking for hidden files and directories ... OK * checking for portable file names ... OK * checking for sufficient/correct file permissions ... OK * checking whether package ‘BioPlex’ can be installed ... OK * checking installed package size ... OK * checking package directory ... OK * checking ‘build’ directory ... OK * checking DESCRIPTION meta-information ... OK * checking top-level files ... OK * checking for left-over files ... OK * checking index information ... OK * checking package subdirectories ... OK * checking R files for non-ASCII characters ... OK * checking R files for syntax errors ... OK * checking whether the package can be loaded ... OK * checking whether the package can be loaded with stated dependencies ... OK * checking whether the package can be unloaded cleanly ... OK * checking whether the namespace can be loaded with stated dependencies ... OK * checking whether the namespace can be unloaded cleanly ... OK * checking loading without being on the library search path ... OK * checking dependencies in R code ... OK * checking S3 generic/method consistency ... OK * checking replacement functions ... OK * checking foreign function calls ... OK * checking R code for possible problems ... NOTE getCorum: no visible binding for global variable ‘Organism’ Undefined global functions or variables: Organism * checking Rd files ... OK * checking Rd metadata ... OK * checking Rd cross-references ... OK * checking for missing documentation entries ... OK * checking for code/documentation mismatches ... OK * checking Rd \usage sections ... OK * checking Rd contents ... OK * checking for unstated dependencies in examples ... OK * checking files in ‘vignettes’ ... OK * checking examples ... OK Examples with CPU (user + system) or elapsed time > 5s user system elapsed ccleProteome2SummarizedExperiment 36.032 1.872 38.405 annotatePFAM 14.525 1.724 18.897 mapSummarizedExperimentOntoGraph 7.096 0.924 8.357 hasSubunit 5.998 0.708 6.996 bioplex2graph 6.225 0.368 6.868 corum2graphlist 5.053 0.312 5.698 * checking for unstated dependencies in vignettes ... OK * checking package vignettes in ‘inst/doc’ ... OK * checking running R code from vignettes ... ‘BasicChecks.Rmd’ using ‘UTF-8’... OK ‘BioPlex.Rmd’ using ‘UTF-8’... OK NONE * checking re-building of vignette outputs ... OK * checking PDF version of manual ... OK * DONE Status: 1 NOTE See ‘/home/biocbuild/bbs-3.17-data-experiment/meat/BioPlex.Rcheck/00check.log’ for details.
BioPlex.Rcheck/00install.out
############################################################################## ############################################################################## ### ### Running command: ### ### /home/biocbuild/bbs-3.17-bioc/R/bin/R CMD INSTALL BioPlex ### ############################################################################## ############################################################################## * installing to library ‘/home/biocbuild/bbs-3.17-bioc/R/site-library’ * installing *source* package ‘BioPlex’ ... ** using staged installation ** R ** inst ** byte-compile and prepare package for lazy loading ** help *** installing help indices ** building package indices ** installing vignettes ** testing if installed package can be loaded from temporary location ** testing if installed package can be loaded from final location ** testing if installed package keeps a record of temporary installation path * DONE (BioPlex)
BioPlex.Rcheck/BioPlex-Ex.timings
name | user | system | elapsed | |
annotatePFAM | 14.525 | 1.724 | 18.897 | |
bioplex2graph | 6.225 | 0.368 | 6.868 | |
ccleProteome2SummarizedExperiment | 36.032 | 1.872 | 38.405 | |
corum2graphlist | 5.053 | 0.312 | 5.698 | |
corum2list | 1.432 | 0.120 | 1.834 | |
getBioPlex | 1.395 | 0.107 | 1.589 | |
getBioplexProteome | 0.201 | 0.020 | 0.261 | |
getCorum | 1.675 | 0.233 | 2.195 | |
getGSE122425 | 0.518 | 0.016 | 0.536 | |
getHEK293GenomeTrack | 0.249 | 0.032 | 0.673 | |
hasSubunit | 5.998 | 0.708 | 6.996 | |
mapSummarizedExperimentOntoGraph | 7.096 | 0.924 | 8.357 | |