Back to Mac ARM64 build report for BioC 3.17
AB[C]DEFGHIJKLMNOPQRSTUVWXYZ

This page was generated on 2023-10-20 09:38:00 -0400 (Fri, 20 Oct 2023).

HostnameOSArch (*)R versionInstalled pkgs
kjohnson2macOS 12.6.1 Montereyarm644.3.1 (2023-06-16) -- "Beagle Scouts" 4347
Click on any hostname to see more info about the system (e.g. compilers)      (*) as reported by 'uname -p', except on Windows and Mac OS X

Package 390/2230HostnameOS / ArchINSTALLBUILDCHECKBUILD BIN
CNVrd2 1.38.0  (landing page)
Hoang Tan Nguyen
Snapshot Date: 2023-10-15 14:00:07 -0400 (Sun, 15 Oct 2023)
git_url: https://git.bioconductor.org/packages/CNVrd2
git_branch: RELEASE_3_17
git_last_commit: 4161932
git_last_commit_date: 2023-04-25 10:29:34 -0400 (Tue, 25 Apr 2023)
kjohnson2macOS 12.6.1 Monterey / arm64  OK    OK    OK    OK  UNNEEDED, same version is already published

BUILD BIN results for CNVrd2 on kjohnson2


To the developers/maintainers of the CNVrd2 package:
- Use the following Renviron settings to reproduce errors and warnings.
- If 'R CMD check' started to fail recently on the Linux builder(s) over a missing dependency, add the missing dependency to 'Suggests:' in your DESCRIPTION file. See Renviron.bioc for more information.

raw results


Summary

Package: CNVrd2
Version: 1.38.0
Command: rm -rf CNVrd2.buildbin-libdir && mkdir CNVrd2.buildbin-libdir && /Users/biocbuild/BBS/utils/build-universal.sh CNVrd2_1.38.0.tar.gz /Library/Frameworks/R.framework/Resources/bin/R CNVrd2.buildbin-libdir
StartedAt: 2023-10-19 12:15:06 -0400 (Thu, 19 Oct 2023)
EndedAt: 2023-10-19 12:16:57 -0400 (Thu, 19 Oct 2023)
EllapsedTime: 111.1 seconds
RetCode: 0
Status:   OK  
PackageFile: CNVrd2_1.38.0.tgz
PackageFileSize: 2.92 MiB

Command output

##############################################################################
##############################################################################
###
### Running command:
###
###   rm -rf CNVrd2.buildbin-libdir && mkdir CNVrd2.buildbin-libdir && /Users/biocbuild/BBS/utils/build-universal.sh CNVrd2_1.38.0.tar.gz /Library/Frameworks/R.framework/Resources/bin/R CNVrd2.buildbin-libdir
###
##############################################################################
##############################################################################


>>>>>>> 
>>>>>>> INSTALLATION WITH 'R CMD INSTALL --preclean --no-multiarch --library=CNVrd2.buildbin-libdir CNVrd2_1.38.0.tar.gz'
>>>>>>> 

* installing *source* package ā€˜CNVrd2ā€™ ...
** using staged installation
** R
** data
** inst
** byte-compile and prepare package for lazy loading
** help
*** installing help indices
** building package indices
** installing vignettes
** testing if installed package can be loaded from temporary location
** testing if installed package can be loaded from final location
** testing if installed package keeps a record of temporary installation path
* DONE (CNVrd2)