![]() | Name | Last modified | Size | Description |
---|---|---|---|---|
![]() | Parent Directory | - | ||
![]() | buildsrc-out.txt | 10-Jun-2023 00:05 | 883 | |
![]() | buildsrc-summary.dcf | 10-Jun-2023 00:05 | 405 | |
![]() | checksrc-out.txt | 10-Jun-2023 00:05 | 3.7K | |
![]() | checksrc-summary.dcf | 10-Jun-2023 00:05 | 397 | |
![]() | install-out.txt | 10-Jun-2023 00:05 | 1.6K | |
![]() | install-summary.dcf | 10-Jun-2023 00:05 | 250 | |