![]() | Name | Last modified | Size | Description |
---|---|---|---|---|
![]() | Parent Directory | - | ||
![]() | buildsrc-out.txt | 26-Sep-2023 00:36 | 883 | |
![]() | buildsrc-summary.dcf | 26-Sep-2023 00:36 | 405 | |
![]() | checksrc-out.txt | 26-Sep-2023 00:36 | 3.7K | |
![]() | checksrc-summary.dcf | 26-Sep-2023 00:36 | 397 | |
![]() | install-out.txt | 26-Sep-2023 00:36 | 1.6K | |
![]() | install-summary.dcf | 26-Sep-2023 00:36 | 250 | |