Name | Last modified | Size | Description | |
---|---|---|---|---|
Parent Directory | - | |||
buildbin-summary.dcf | 17-Oct-2023 00:37 | 530 | ||
buildbin-out.txt | 17-Oct-2023 00:37 | 4.2K | ||
checksrc-summary.dcf | 17-Oct-2023 00:37 | 444 | ||
checksrc-out.txt | 17-Oct-2023 00:37 | 5.5K | ||
buildsrc-summary.dcf | 17-Oct-2023 00:37 | 427 | ||
buildsrc-out.txt | 17-Oct-2023 00:37 | 846 | ||
install-summary.dcf | 17-Oct-2023 00:37 | 269 | ||
install-out.txt | 17-Oct-2023 00:37 | 2.2K | ||