Index of /checkResults/3.17/bioc-LATEST/monocle/raw-results
Name
Last modified
Size
Description
Parent Directory
-
info.dcf
05-Oct-2023 00:37
267
merida1/
05-Oct-2023 00:37
-
nebbiolo1/
05-Oct-2023 00:35
-
palomino3/
05-Oct-2023 00:36
-