Name | Last modified | Size | Description | |
---|---|---|---|---|
Parent Directory | - | |||
install-summary.dcf | 17-Oct-2023 00:37 | 269 | ||
buildsrc-summary.dcf | 17-Oct-2023 00:37 | 340 | ||
checksrc-summary.dcf | 05-Apr-2023 00:06 | 442 | ||
buildbin-summary.dcf | 05-Apr-2023 00:06 | 520 | ||
checksrc-out.txt | 05-Apr-2023 00:06 | 51K | ||
buildsrc-out.txt | 17-Oct-2023 00:37 | 234K | ||
install-out.txt | 17-Oct-2023 00:37 | 253K | ||
buildbin-out.txt | 05-Apr-2023 00:06 | 612K | ||