Index of /checkResults/3.17/bioc-LATEST/gmapR/raw-results

[ICO]NameLast modifiedSizeDescription

[DIR]Parent Directory  -  
[   ]info.dcf03-Jun-2023 00:06 268  
[DIR]merida1/03-Jun-2023 00:06 -  
[DIR]nebbiolo1/03-Jun-2023 00:05 -