![]() | Name | Last modified | Size | Description |
---|---|---|---|---|
![]() | Parent Directory | - | ||
![]() | buildsrc-out.txt | 04-Jun-2023 03:36 | 865 | |
![]() | buildsrc-summary.dcf | 04-Jun-2023 03:36 | 414 | |
![]() | checksrc-out.txt | 04-Jun-2023 03:36 | 3.8K | |
![]() | checksrc-summary.dcf | 04-Jun-2023 03:36 | 410 | |
![]() | install-out.txt | 04-Jun-2023 03:36 | 957 | |
![]() | install-summary.dcf | 04-Jun-2023 03:36 | 257 | |