![]() | Name | Last modified | Size | Description |
---|---|---|---|---|
![]() | Parent Directory | - | ||
![]() | buildsrc-out.txt | 28-Sep-2023 00:35 | 865 | |
![]() | buildsrc-summary.dcf | 28-Sep-2023 00:35 | 414 | |
![]() | checksrc-out.txt | 28-Sep-2023 00:35 | 3.8K | |
![]() | checksrc-summary.dcf | 28-Sep-2023 00:35 | 410 | |
![]() | install-out.txt | 28-Sep-2023 00:35 | 957 | |
![]() | install-summary.dcf | 28-Sep-2023 00:35 | 257 | |