Name | Last modified | Size | Description | |
---|---|---|---|---|
Parent Directory | - | |||
checksrc-out.txt | 17-Mar-2023 00:06 | 5.9K | ||
checksrc-summary.dcf | 17-Mar-2023 00:06 | 443 | ||
buildbin-out.txt | 17-Mar-2023 00:06 | 1.0K | ||
buildbin-summary.dcf | 17-Mar-2023 00:06 | 521 | ||
install-out.txt | 17-Oct-2023 00:36 | 1.0K | ||
install-summary.dcf | 17-Oct-2023 00:36 | 267 | ||
buildsrc-out.txt | 17-Oct-2023 00:36 | 1.7K | ||
buildsrc-summary.dcf | 17-Oct-2023 00:36 | 342 | ||