Name | Last modified | Size | Description | |
---|---|---|---|---|
Parent Directory | - | |||
buildbin-out.txt | 07-Jan-2023 01:08 | 9.4K | ||
buildbin-summary.dcf | 07-Jan-2023 01:08 | 506 | ||
buildsrc-out.txt | 17-Oct-2023 00:36 | 6.3K | ||
buildsrc-summary.dcf | 17-Oct-2023 00:36 | 364 | ||
checksrc-out.txt | 07-Jan-2023 01:08 | 4.0K | ||
checksrc-summary.dcf | 07-Jan-2023 01:08 | 440 | ||
install-out.txt | 17-Oct-2023 00:36 | 5.9K | ||
install-summary.dcf | 17-Oct-2023 00:36 | 268 | ||