Index of /checkResults/3.17/bioc-LATEST/TRESS/raw-results/palomino3

[ICO]NameLast modifiedSizeDescription

[DIR]Parent Directory  -  
[TXT]buildsrc-out.txt10-Jun-2023 00:06 1.0K 
[   ]buildsrc-summary.dcf10-Jun-2023 00:06 361  
[TXT]install-out.txt10-Jun-2023 00:06 965  
[   ]install-summary.dcf10-Jun-2023 00:06 263