Index of /checkResults/3.17/bioc-LATEST/TRESS/raw-results/palomino3
Name
Last modified
Size
Description
Parent Directory
-
install-summary.dcf
17-Oct-2023 00:36
263
install-out.txt
17-Oct-2023 00:36
965
buildsrc-summary.dcf
17-Oct-2023 00:36
361
buildsrc-out.txt
17-Oct-2023 00:36
1.0K