Name | Last modified | Size | Description | |
---|---|---|---|---|
Parent Directory | - | |||
buildbin-out.txt | 17-Oct-2023 00:36 | 47K | ||
install-out.txt | 17-Oct-2023 00:36 | 47K | ||
checksrc-out.txt | 17-Oct-2023 00:36 | 4.3K | ||
buildsrc-out.txt | 17-Oct-2023 00:36 | 891 | ||
buildbin-summary.dcf | 17-Oct-2023 00:36 | 539 | ||
buildsrc-summary.dcf | 17-Oct-2023 00:36 | 468 | ||
checksrc-summary.dcf | 17-Oct-2023 00:36 | 463 | ||
install-summary.dcf | 17-Oct-2023 00:36 | 276 | ||