![]() | Name | Last modified | Size | Description |
---|---|---|---|---|
![]() | Parent Directory | - | ||
![]() | buildbin-out.txt | 08-Jun-2023 00:06 | 2.9K | |
![]() | buildbin-summary.dcf | 08-Jun-2023 00:06 | 521 | |
![]() | buildsrc-out.txt | 08-Jun-2023 00:06 | 1.1K | |
![]() | buildsrc-summary.dcf | 08-Jun-2023 00:06 | 456 | |
![]() | checksrc-out.txt | 08-Jun-2023 00:06 | 4.4K | |
![]() | checksrc-summary.dcf | 08-Jun-2023 00:06 | 450 | |
![]() | install-out.txt | 08-Jun-2023 00:06 | 2.6K | |
![]() | install-summary.dcf | 08-Jun-2023 00:06 | 270 | |