Name | Last modified | Size | Description | |
---|---|---|---|---|
Parent Directory | - | |||
checksrc-out.txt | 24-Mar-2023 00:06 | 23K | ||
checksrc-summary.dcf | 24-Mar-2023 00:06 | 439 | ||
buildbin-out.txt | 24-Mar-2023 00:06 | 6.4K | ||
buildbin-summary.dcf | 24-Mar-2023 00:06 | 504 | ||
install-out.txt | 17-Oct-2023 00:36 | 6.3K | ||
install-summary.dcf | 17-Oct-2023 00:36 | 265 | ||
buildsrc-out.txt | 17-Oct-2023 00:36 | 1.8K | ||
buildsrc-summary.dcf | 17-Oct-2023 00:36 | 363 | ||