Name | Last modified | Size | Description | |
---|---|---|---|---|
Parent Directory | - | |||
buildsrc-summary.dcf | 17-Oct-2023 00:35 | 327 | ||
buildsrc-out.txt | 17-Oct-2023 00:35 | 1.4K | ||
install-summary.dcf | 17-Oct-2023 00:35 | 251 | ||
install-out.txt | 17-Oct-2023 00:35 | 1.1K | ||
checksrc-summary.dcf | 03-Oct-2023 00:35 | 407 | ||
checksrc-out.txt | 03-Oct-2023 00:35 | 4.0K | ||