Index of /checkResults/3.17/bioc-LATEST/CopywriteR/raw-results/palomino3
Name
Last modified
Size
Description
Parent Directory
-
install-summary.dcf
17-Oct-2023 00:36
274
install-out.txt
17-Oct-2023 00:36
1.1K
buildsrc-summary.dcf
17-Oct-2023 00:36
378
buildsrc-out.txt
17-Oct-2023 00:36
1.8K