Name | Last modified | Size | Description | |
---|---|---|---|---|
Parent Directory | - | |||
buildbin-out.txt | 17-Oct-2023 00:36 | 1.2K | ||
buildbin-summary.dcf | 17-Oct-2023 00:36 | 536 | ||
buildsrc-out.txt | 17-Oct-2023 00:36 | 820 | ||
buildsrc-summary.dcf | 17-Oct-2023 00:36 | 431 | ||
checksrc-out.txt | 17-Oct-2023 00:36 | 4.0K | ||
checksrc-summary.dcf | 17-Oct-2023 00:36 | 452 | ||
install-out.txt | 17-Oct-2023 00:36 | 1.0K | ||
install-summary.dcf | 17-Oct-2023 00:36 | 271 | ||