Index of /checkResults/3.17/bioc-LATEST/Category/raw-results
Name
Last modified
Size
Description
Parent Directory
-
info.dcf
28-May-2023 00:06
299
merida1/
28-May-2023 00:06
-
nebbiolo1/
28-May-2023 00:04
-
palomino3/
28-May-2023 00:05
-