Index of /checkResults/3.17/bioc-LATEST/Category/raw-results/nebbiolo1

[ICO]NameLast modifiedSizeDescription

[DIR]Parent Directory  -  
[TXT]buildsrc-out.txt04-Oct-2023 00:35 810  
[   ]buildsrc-summary.dcf04-Oct-2023 00:35 420  
[TXT]checksrc-out.txt04-Oct-2023 00:35 3.4K 
[   ]checksrc-summary.dcf04-Oct-2023 00:35 418  
[TXT]install-out.txt04-Oct-2023 00:35 955  
[   ]install-summary.dcf04-Oct-2023 00:35 261